BEGIN:VCALENDAR
VERSION:2.0
PRODID:LFV Website-Kit
METHOD:PUBLISH
BEGIN:VEVENT
UID:lfv-80dba537-4f3a-47d8-ba25-33b7ef91fbd0
LOCATION:
SUMMARY:Kommandanten-Dienstversammlung Art. 16 und Verbandsausschuss Kreisfeuerwehrverband
DESCRIPTION:Termin Link: https://feuerwehr-nea.de/termine/kommandanten-dienstversammlung-art-16-und-verbandsausschuss-kreisfeuerwehrverband/
URL:https://feuerwehr-nea.de/termine/kommandanten-dienstversammlung-art-16-und-verbandsausschuss-kreisfeuerwehrverband/
CLASS:PRIVATE
DTSTART;TZID=Europe/Berlin:20260521T190000
DTEND;TZID=Europe/Berlin:20260521T200000
DTSTAMP:20260421T092323Z
END:VEVENT
END:VCALENDAR